BEGIN:VCALENDAR
VERSION:2.0
PRODID:-//hacksw/handcal//NONSGML v1.0//EN
BEGIN:VEVENT
DTSTART:20240322T180000Z
DTEND:20240322T210000Z
LOCATION:Casablanca
ORGANIZER;CN=Fatima Zahra BASSIM:MAILTO:fz.bassim1@gmail.com
SUMMARY:Ramadan Ftour 2024 [Casablanca]
DESCRIPTION:Join us for a memorable Ramadan Ftour gathering in the heart of Casablanca. Let's come together for an evening of connection, celebration, and cherished memories.Ramadan is a time of reflection,...
URL:https://aaa.aui.ma/en/event/ramadan-ftour-2024-casablanca/2024/03/22/59
BEGIN:VALARM
TRIGGER:-P0DT1H0M0S
ACTION:DISPLAY
END:VALARM
END:VEVENT
END:VCALENDAR